Workbook

Sheet Instructions
A1: Instructions
A2: Service Member Overview
A3: If you are interested in a tour, you should have a good resume and military biography that highlights your skills and abilities. Just like applying for a job in the civilian world, our DoD customers are looking for the right person with the skills they need to help accomplish their mission. You can be selected based on your civilian skills, so be sure to include those in your resume. Likewise, our positions are not limited by grade or occupational specialty. So if you are an E5 and have the skills the job calls for, but the position says E6-E7, go ahead and apply.
A5: How It Works
A6: 1. Browse currently available tours and apply to all those for which you are qualified. Send your resume and military biography to PFI for review. Select the yellow 'Click HERE to Apply' link. An email window should pop up. Attached your resume and bio and send. NOTE: If the link does not work, send an email to dfas.indianapolis-in.zh.mbx.pfi@mail.mil with your resume and bio, be sure to list the tour position number you are interested in.
A7: 2. Applications are sent to and reviewed by the requesting defense agency.
A8: 3. The requesting agency selects the most qualified candidate.
A9: 4. PFI then notifies you of your selection. Once you accept the position, we process the request for your active duty orders.
A10: 5. Once orders are cut, you report for duty and get to work!
A12: Resources
A13: 1. Visit our website at: https://www.DFAS.mil/PFI for more information or send an email with your questions to: dfas.indianapolis-in.zh.mbx.pfi@mail.mil

Sheet ADOS Tours Updated 10Sep2026
A1: Tour# | B1: Agency | C1: Activity | D1: Position Title | E1: Duty Description | F1: Branch | G1: Grade | H1: Duty Site | I1: Duty State | J1: Duty Country | K1: Apply | L1: Recruiter
A2: 26-6087 | B2: USA Security Assistance Command | C2: USASAC-NGB-OPV | D2: OPERATIONS OFFICER/S-3 | E2: 26-6087, Length 1 Year: Serves as the Operations Officer for the United States Army Flight Training Detachment - Peace Vanguard (USAFTD-PV) . Assists in the leadership and management of over 50 assigned personnel. Technical management and oversight includes training management, operations, command and control and development of assigned missions with associated key logistics packages. Serves as representative for the Command and Detachment in all operational matters. Develops policy and procedural guidance for subordinate leaders, as well as coordinating FMS mission planning objectives with other governmental agencies. Simultaneously coordinates mission logistics, personnel movements and aircraft transportation for multiple exercises. Execute short/long-term planning, annual training guidance development, and CCIR process management. | F2: Army | G2: O3:O4 | H2: Red Rock | I2: AZ | J2: United States | K2: =HYPERLINK("mailto:"&VLOOKUP(L2,'CONCAT Codes'!$A$14:$G$26,5,FALSE)&"?subject="&_xlfn.CONCAT(C2," - APPLICANT for ",A2)&"&cc="&'CONCAT Codes'!$A$32&"&body="&D2&"%0A%0APlease see my resume and bio for the above tour.","Click HERE to apply") -> Click HERE to apply | L2: Sorg, Joseph H.
A3: 26-6121 | B3: Naval Surface Warfare Center | C3: NSWC-Crane Division-RDER | D3: UAS Trainer (Maintenance/Operations) OUSW R&E | E3: 26-6121, Length 1 year: Select -15 Series Personnel (15C, 15E, 15M, 15X, 15W, 150U) required. TF RAPTR (Rapid Assessment of Prototype Technology Readiness), within the Office of the Under Secretary of War for Research & Engineering (OUSW R&E), has been tasked with establishing an operational site at Yuma Proving Ground (YPG) to support experimentation and training on Nonstandard Group 1-3 UAS. Service members (SMs) will undergo comprehensive training on all aspects of selected platforms, including launch and recovery operations, payload operations, maintenance, and ground operations. Along with conducting UAS operations, SMs will act as a TF RAPTR liaison for government activities, industry partner engagement, and training site coordination in order to enable the acceleration of emerging technology to the Joint Warfighter. Individuals will be asked to perform duties as needed when not engaged with direct flight operations. Instructor Operator/Standardization Operator and Technical Inspectors are highly preferred. Individuals must be independently driven and operationally focused to achieve mission requirements with limited oversight while executing at the highest levels for the Department of War. Qualifications: 15C, 15E, 15M, 15W, 15X, 150U. Eligible for TS/SCI. Ability to obtain a Class 4 UAS flight physical. | F3: Army | G3: E6:E7:W1:W2 | H3: Yuma | I3: AZ | J3: United States | K3: =HYPERLINK("mailto:"&VLOOKUP(L3,'CONCAT Codes'!$A$14:$G$26,5,FALSE)&"?subject="&_xlfn.CONCAT(C3," - APPLICANT for ",A3)&"&cc="&'CONCAT Codes'!$A$32&"&body="&D3&"%0A%0APlease see my resume and bio for the above tour.","Click HERE to apply") -> Click HERE to apply | L3: Tallent, Dennis W.
A4: 26-6131 | B4: USA Security Assistance Command | C4: USASAC-NGB-OPV | D4: Instructor Pilot Master Gunner | E4: 26-6131, Length 1 Year: Incumbent must be qualified as an AH-64D lnstructor Pilot and Instrument Flight Examiner by U.S. Army standards. Graduate of Aviation Master Gunner Course with experience as and AH-64 Master Gunner and Standardization Pilot preferred. Serves as a senior member of the USAFTD Peace Vanguard AH64D Aviation Team. Formulates, oversees and evaluates the gunnery training program of the Detachment. Develops near term, short range, and long range training plans and guidance in accordance with ATP 3-04.3, ATP 3-04.11, AR 385-10, AR 95-1, DA Pam 750-8 and pertinent Singaporean Air Force regulations. Writes and issues various types of orders as well as enforces TTPs as needed to conduct training activities and operations so as to meet requirements of Singaporean training requirements, DA, NGB, MACO Ms and Higher Headquarters. Will ensure proper communications between the United States Flight Training Detachment (USAFTD) and the Republic of Singapore Air Force (RSAF) to provide quality and streamlined aviation output. Conducts aviator training and evaluations. Coordinates and creates unit SOP's pertaining to procedures between RSAF and USAFTD. Performs other duties as assigned. | F4: Army | G4: W2:W3:W4 | H4: Red Rock | I4: AZ | J4: United States | K4: =HYPERLINK("mailto:"&VLOOKUP(L4,'CONCAT Codes'!$A$14:$G$26,5,FALSE)&"?subject="&_xlfn.CONCAT(C4," - APPLICANT for ",A4)&"&cc="&'CONCAT Codes'!$A$32&"&body="&D4&"%0A%0APlease see my resume and bio for the above tour.","Click HERE to apply") -> Click HERE to apply | L4: Sorg, Joseph H.
A5: 26-6137 | B5: USA Security Assistance Command | C5: USASAC-NGB-OPV | D5: Standardization Instructor Pilot | E5: 26-6137, Length 1 Year: Applicant must be qualified as an AH-64D lnstructor Pilot and Instrument Flight Examiner by U.S. Army standards. Graduate of Aviation Master Gunner Course with experience as and AH-64 Master Gunner and Standardization Pilot preferred. Formulates, oversees and evaluates the aircrew training program of USAFTD. Develops short range and long range training plans and guidance in accordance with ATP 3-04.3, ATP 3-04.11, AR 385-10, AR 95-1, DA Pam 750-8 and pertinent Singaporean Air Force regulations. Writes and issues various types of orders as well as enforces TTPs, conducts training activities and operations to meet Singaporean training requirements, DA, NGB, and Higher Headquarters. Ensures proper communications between the United States Flight Training Detachment (USAFTD) and the Republic of Singapore Air Force (RSAF) to provide quality and streamlined aviation output. Conducts aviator training and evaluations. Coordinates and maintains unit SOP's pertaining to procedures between RSAF and USAFTD. Service member will complete and maintain assigned Defense Security Cooperation certificate for assigned functional area and certification level. Position is for 1-year with an opportunity for extension for an additional year. Must possess a SECRET clearance. | F5: Army | G5: W2:W3:W4 | H5: Red Rock | I5: AZ | J5: United States | K5: =HYPERLINK("mailto:"&VLOOKUP(L5,'CONCAT Codes'!$A$14:$G$26,5,FALSE)&"?subject="&_xlfn.CONCAT(C5," - APPLICANT for ",A5)&"&cc="&'CONCAT Codes'!$A$32&"&body="&D5&"%0A%0APlease see my resume and bio for the above tour.","Click HERE to apply") -> Click HERE to apply | L5: Sorg, Joseph H.
A6: 26-6240 | B6: USA Security Assistance Command | C6: USASAC-NGB-OPV | D6: AH-64 Armament/Electronics/Avionics Repairer | E6: 26-6240, Length 1 Year: Assigned to a Foreign Military Sales (FMS) program supporting the Republic of Singapore's Air Force. Diagnose and troubleshoot malfunctions in electrical and electronic components. Apply principles of electricity/electronics to repair aircraft instrument systems. Remove, install, repair, adjust, and test electrical/electronics elements of assemblies and comp according to technical manuals, directives and safety procedures. Cleaned, preserve and store electrical/electronic components and aircraft instruments. Maintain modifications to weapons components, fire control units, sighting elements, electronic and mechanical devices. Perform operational and preventive checks. Maintain records on weapons and subsystems. Applicants must possess proper military bearing, professional appearance, discipline, and the ability to work in a multicultural environment. Service member will complete and maintain assigned Defense Security Cooperation certificate for assigned functional area and certification level. | F6: Army | G6: E4:E5:E6 | H6: Red Rock | I6: AZ | J6: United States | K6: =HYPERLINK("mailto:"&VLOOKUP(L6,'CONCAT Codes'!$A$14:$G$26,5,FALSE)&"?subject="&_xlfn.CONCAT(C6," - APPLICANT for ",A6)&"&cc="&'CONCAT Codes'!$A$32&"&body="&D6&"%0A%0APlease see my resume and bio for the above tour.","Click HERE to apply") -> Click HERE to apply | L6: Sorg, Joseph H.
A7: 26-6242 | B7: USA Security Assistance Command | C7: USASAC-NGB-OPV | D7: AH-64D Helicopter Repairer | E7: 26-6242, Length 1 Year: Serve as a 15R AH-64D HELICOPTER REPAIRER section lead while assigned to the United State Army Flight Training Detachment - Peace Vanguard. USAFTD is a foreign military sales (FMS) program supporting the country of Singapore in Marana, AZ with 57 US Soldiers, 56 Republic of Singapore Air Force (RSAF) Airmen, and six RSAF AH-64D helicopters. Duties include performing inspections, servicing, maintaining and repair of AH-64D Apache completing record documentation; performing periodic inspection of tool room, hangar, shop, and flight line areas; collaborating with Singapore maintenance personnel for aircraft scheduled and unscheduled maintenance. Coordinates maintenance activities with Singapore maintenance section to ensure success of Republic of Singapore Air Force (RSAF) and USAFTD mission. Responsible for leading a squad sized element. Applicants must possess proper military bearing, professional appearance, discipline, and the ability to work in a multicultural environment. Service member will complete and maintain assigned Defense Security Cooperation certificate for assigned functional area and certification level. Position is for 1-year with an opportunity for extension for an additional year. | F7: Army | G7: E5:E6:E7 | H7: Red Rock | I7: AZ | J7: United States | K7: =HYPERLINK("mailto:"&VLOOKUP(L7,'CONCAT Codes'!$A$14:$G$26,5,FALSE)&"?subject="&_xlfn.CONCAT(C7," - APPLICANT for ",A7)&"&cc="&'CONCAT Codes'!$A$32&"&body="&D7&"%0A%0APlease see my resume and bio for the above tour.","Click HERE to apply") -> Click HERE to apply | L7: Sorg, Joseph H.
A8: 26-6318 | B8: USA Security Assistance Command | C8: USASAC-NGB-OPV | D8: Rotor and Transmission | E8: 26-6318, Length 1 year: Serve as an Aircraft Powertrain Repairer (15D) on AH-64D Attack Helicopters for the United States Army Flight Training Detachment (USAFTD) - Peace Vanguard. This is a foreign military sales (FMS) program supporting the country of Singapore in Marana, AZ with 57 US Soldiers, 56 Republic of Singapore Air Force (RSAF) Airmen, and six RSAF AH-64D Helicopters assigned. Inspect and perform maintenance on aircraft powertrain systems—remove, install, disassemble, repair, adjust, and balance components such as transmissions, gear boxes, drive shafts, bearings, etc. Assist other 15 series MOSs with their aviation maintenance tasks as needed. Expect to cross train as a 15R (AH-64D Attack Helicopter Repairer) and train to perform FARP ops such as re-arm and re-fuel. Position is for 1-year with an opportunity for extension for an additional year. Applicants must possess proper military bearing, professional appearance, discipline, and the ability to work in a multicultural environment. Service member will complete and maintain assigned Defense Security Cooperation certificate for assigned functional area and certification level. | F8: Army | G8: E5:E6 | H8: Red Rock | I8: AZ | J8: United States | K8: =HYPERLINK("mailto:"&VLOOKUP(L8,'CONCAT Codes'!$A$14:$G$26,5,FALSE)&"?subject="&_xlfn.CONCAT(C8," - APPLICANT for ",A8)&"&cc="&'CONCAT Codes'!$A$32&"&body="&D8&"%0A%0APlease see my resume and bio for the above tour.","Click HERE to apply") -> Click HERE to apply | L8: Sorg, Joseph H.
A9: 26-6319 | B9: USA Security Assistance Command | C9: USASAC-NGB-OPV | D9: A/C PWR PLANT RPR SUPV | E9: 26-6319, Length 1 Year: Serves as a 15K Aircraft Components Repair Supervisor in a Foreign Military Sales (FMS) unit, responsible for the maintenance, repair, and service of Singapore’s six AH-64D Apache helicopters. Performs and oversees troubleshooting, inspection, and repair of aircraft components including powertrain, powerplant, and sheet metal systems. Ensures all maintenance actions comply with technical manuals, safety standards, and international agreements. Coordinates with Singaporean counterparts and U.S. Army personnel to support operational readiness and mission requirements. Oversees a squad sized element. Applicants must possess proper military bearing, professional appearance, discipline, and the ability to work in a multicultural environment. Service member will complete and maintain assigned Defense Security Cooperation certificate for assigned functional area and certification level. | F9: Army | G9: E6:E7 | H9: Red Rock | I9: AZ | J9: United States | K9: =HYPERLINK("mailto:"&VLOOKUP(L9,'CONCAT Codes'!$A$14:$G$26,5,FALSE)&"?subject="&_xlfn.CONCAT(C9," - APPLICANT for ",A9)&"&cc="&'CONCAT Codes'!$A$32&"&body="&D9&"%0A%0APlease see my resume and bio for the above tour.","Click HERE to apply") -> Click HERE to apply | L9: Sorg, Joseph H.
A10: 26-6343 | B10: USA Security Assistance Command | C10: USASAC-NGB-OPV | D10: INST PILOT/Aviation Safety Officer | E10: 26-6343, Length 1 Year Must be qualified as an AH-64D Pilot and able to obtain U.S. Army Combat Readiness Center Unit Safety Officer Course graduate by U.S. Army standards. Experience working with Foreign Military Sales training programs and Battalion or higher Safety Officer experience preferred. Determines needs, develops, and advises programs and action plans for the Commander and staff in all aspects of safety. Conducts research, develops, and presents near term, short range, and long range safety training plans and guidance in accordance with AR 385-10, AR 385-63, AR 95-1, ATP 3-04.3, ATP 3-04.11, TC 3-04.45, and pertinent Singapore Air Force regulations. Writes and issues various types of orders as well as enforces OSHA, NFPA Fre and Life Safety standards and codes to meet safety requirements of Singapore Air Force, DA, NGB, MACOMs and Higher Headquarters. Will ensure proper communications between the United States Flight Training Detachment (USAFTD) and the Republic of Singapore Air Force (RSAF) to provide quality and streamlined aviation output. Also serves as a subject matter expert and primary liaison to RSAF personnel on US Federal, State, and OSHA Regulations. Conducts aviator and mechanic safety training and evaluations. Coordinates, develops, and writes unit SOP's pertaining to procedures between RSAF and USAFTD. Performs other duties as assigned. | F10: Army | G10: W2:W3:W4 | H10: Red Rock | I10: AZ | J10: United States | K10: =HYPERLINK("mailto:"&VLOOKUP(L10,'CONCAT Codes'!$A$14:$G$26,5,FALSE)&"?subject="&_xlfn.CONCAT(C10," - APPLICANT for ",A10)&"&cc="&'CONCAT Codes'!$A$32&"&body="&D10&"%0A%0APlease see my resume and bio for the above tour.","Click HERE to apply") -> Click HERE to apply | L10: Sorg, Joseph H.
A11: 26-6348 | B11: Air Force Materiel Command | C11: OO-ALC - 309 AMARG | D11: Mission Generation Vehicular Equipment Maintainer | E11: 26-6348, Length 1 Year: The position requires a skilled technician with leadership abilities to manage and execute the complete maintenance lifecycle for a diverse fleet of vehicles. Key Duties: • Inspection and Diagnostics: Systematically inspecting, troubleshooting, and diagnosing malfunctions in a wide range of vehicle systems, including engines (gasoline, diesel, alternative fuel), transmissions, electrical systems, air conditioning, brakes, and hydraulics. • Repair and Overhaul: Repairing, rebuilding, or replacing major components and assemblies. This includes performing specialized tasks like welding, metal fabrication, and replacing vehicle glass. • Quality and Safety Compliance: Ensuring all work conforms to established standards, inspecting shop equipment, managing hazardous waste, and adhering to safety protocols. • Administrative Tasks: Using technical manuals and computer systems (like DPAS and SBSS) to research parts, document maintenance, and prepare data reports for management. Qualifications: One (1) Level 5 (Journeyman) One (1) Level 7 (Craftsman-seasoned) AFSC: 2T351 | F11: Army or Air Force | G11: E5:E6:E7 | H11: Davis-Monthan AFB | I11: AZ | J11: United States | K11: =HYPERLINK("mailto:"&VLOOKUP(L11,'CONCAT Codes'!$A$14:$G$26,5,FALSE)&"?subject="&_xlfn.CONCAT(C11," - APPLICANT for ",A11)&"&cc="&'CONCAT Codes'!$A$32&"&body="&D11&"%0A%0APlease see my resume and bio for the above tour.","Click HERE to apply") -> Click HERE to apply | L11: Spencer, Megan H.
A12: 26-6364 | B12: USA Security Assistance Command | C12: USASAC-NGB-OPV | D12: OJT 15R - Helicopter Repairer | E12: 26-6364, Length 1 year: APPLICANT MUST BE A 15T OR 15U TO BE SELECTED Serve as an AH-64D Helicopter Repairer while participating in a comprehensive on the job training (OJT) program for the United States Army Flight Training Detachment (USAFTD) - Peace Vanguard. This is a foreign military sales (FMS) program supporting the country of Singapore in Marana, AZ with 57 US Soldiers, 56 Republic of Singapore Air Force (RSAF) Airmen, and six RSAF AH-64D Helicopters assigned. Applicant must be able to performs inspections, servicing, maintenance and repair of AH-64D Apache Helicopters. Completes documentation of all maintenance activities, collaborates with Singapore maintenance personnel to complete maintenance and service activities. Coordinates maintenance activities with Singapore personnel to ensure success of Republic of Singapore Air Force (RSAF) and USAFTD mission. Position is for a one-year tour with an opportunity to extend for an additional year. Applicant will be expected to participate in an on the job training (OJT) program. When completed, the hired applicant will be eligible for a 15R identifier. USAFTD is a designated Security Cooperation Workforce (SCW). Personnel must complete assigned certification functional area / level and maintain certification while serving within the organization. | F12: Army | G12: E4:E5 | H12: Red Rock | I12: AZ | J12: United States | K12: =HYPERLINK("mailto:"&VLOOKUP(L12,'CONCAT Codes'!$A$14:$G$26,5,FALSE)&"?subject="&_xlfn.CONCAT(C12," - APPLICANT for ",A12)&"&cc="&'CONCAT Codes'!$A$32&"&body="&D12&"%0A%0APlease see my resume and bio for the above tour.","Click HERE to apply") -> Click HERE to apply | L12: Sorg, Joseph H.
A13: 26-6405 | B13: USA Security Assistance Command | C13: USASAC-NGB-OPV | D13: Unit Supply Specialist | E13: 26-6405, Length 365 days: Serve as an Unit Supply Specialist (92Y) or Automated Logistical Specialist (92A) for the United States Army Flight Training Detachment (USAFTD) - Peace Vanguard, Marana, AZ, supporting a Foreign Military Sales (FMS) program with the Republic of Singapore Air Force (RSAF). Perform day-to-day warehouse and supply operations as the primary duty, to include receipt, storage, issue, turn-in, inventory, and organization of expendable, durable, and non-expendable property in a non-standard property accountability environment. Maintain manual and digital accountability records, hand receipts, custodial documentation, and inventory files in support of the S4 OIC; conduct cyclic and spot inventories; and support Change of Command Inventories, CSDP requirements, and inspections. Utilize the Government Purchase Care (GPC) to procure authorized supplies and services and maintain complete supporting financial documentation in accordance with Army and DoD policy. Coordinate with vendors, installation agencies, and external organizations; assist with transportation and movement of equipment using GSA vehicles and material handling equipment; validate POL requests; and provide general logistics support to mission operations as directed. Note: This position is warehouse-centric. The majority of duties involve hands-on warehouse operations and manual property accountability in a dynamic FMS environment. Preferred qualifications / prior appointments or experience: Government Purchase Card holder, GCSS-Army Supply / Maintenance roles. | F13: Army | G13: E4:E5 | H13: Red Rock | I13: AZ | J13: United States | K13: =HYPERLINK("mailto:"&VLOOKUP(L13,'CONCAT Codes'!$A$14:$G$26,5,FALSE)&"?subject="&_xlfn.CONCAT(C13," - APPLICANT for ",A13)&"&cc="&'CONCAT Codes'!$A$32&"&body="&D13&"%0A%0APlease see my resume and bio for the above tour.","Click HERE to apply") -> Click HERE to apply | L13: Sorg, Joseph H.
... A88: 26-6378 | B88: OUSD - Acquisition & Sustainment | C88: F35 Joint Program Office | D88: Deputy Logistics Manager | E88: 26-6378, Length 1 year: E2:E8The selected logistician will serve as the F-35 Joint Program Office Foreign Military Sales (FMS) Deputy Logistics Manager and will be responsible for Assisting the FMS Logistics and Sustainment Lead with: Overseeing the logistics effort to support existing and future FMS customers. Managing all sustainment requirements in the Letters of Offer and Acceptance (LOA) for each FMS country case. Work with customers to identify and plan requirements; work with internal stakeholders to ensure requirements are placed on appropriate contracts for timely delivery. Monitor requirements and contracts to ensure compliance with cost, schedule, and performance metrics. Improve or standardize processes, planning, products, services and integration to support the F-35 Program product and services. Prepare, review, and provide verbal and written communications to effectively relay critical programmatic information to F-35 FMS Stakeholders in a timely manner, ensuring awareness and adherence to security and policy guidance. Liaison as required with FMS country team Logistics Leads, Program Managers (PMs), Requirements Managers, Contracting Officers, and other stakeholders to ensure FMS requirements are contract and delivered in accordance with cost, schedule, and performance requirements. Developing sustainment solutions based on the F-35 support and sustainment governance that underpins readiness for all F-35 using services and nations, as well as specific sovereign needs of the assigned country. The incumbent is also responsible for coordination of all logistics requirements and any cost benefit analysis that may be necessary. The incumbent will attend designated meetings and conferences with respect to F-35 sustainment strategy; and may be called upon to serve as a sustainment SME for specific programs during major program reviews, inspections, conferences, and other program evaluations and events. Serve as a Customs Clearance Officer (CCO) to facilitate movement of U.S. Government owned material throughout the enterprise. Complete all required training and certification requirements and serve as a CCO. Qualifications: Candidate must possess BS or BA degree in Business, Management, Logistics, or relevant to position. Understanding of qualitative and quantitative analytical and evaluative methods. Applicant must possess and maintain a Secret security clearance. Candidate should have demonstrated knowledge of operational aviation logistics and/or the principles, policies, and practices of system acquisition, logistics and sustainment. | F88: Army or Air Force | G88: O3:O4 | H88: Arlington | I88: VA | J88: United States | K88: =HYPERLINK("mailto:"&VLOOKUP(L88,'CONCAT Codes'!$A$14:$G$26,5,FALSE)&"?subject="&_xlfn.CONCAT(C88," - APPLICANT for ",A88)&"&cc="&'CONCAT Codes'!$A$32&"&body="&D88&"%0A%0APlease see my resume and bio for the above tour.","Click HERE to apply") -> Click HERE to apply | L88: Cousineau, Tania
A89: 26-6374 | B89: Defense Logistics Agency | C89: DLA - Troop Support Europe/Africa | D89: Operations Officer | E89: 26-6374, Length 1 Year: Serves as Team Lead of Internal Operations assisting the Division Chief in matters concerning DLA Troop Support's ability to enhance combat readiness and logistical support through integrated application of Troop Support’s CONUS and OCONUS existing logistics resources and capabilities. Responsible for integration and synergy of all logistics operations and planning activities for Troop Support Europe & Africa (TS EA) in support of US Africa, Central, and European Commands. Provides and maintains analysis of operations, plans, exercises and all facets of contingency and operational logistics. Serves as the TS EA lead to coordinate TS EA conferences, off-sites, seminars, and workshops to train and educate TS EA staff and visitors. Coordinates with TS J-3/5 and planners in developing support requirements for designated operations and organizing the execution of enterprise Class of Supply Summits and Symposiums. Represents TS EA at planning conferences, war-games, and summits. Responsible for managing the implementation, and enhancement of information management and logistics intelligence to support critical knowledge flow within and across the organization. Responsible for managing and leveraging information, reports, and analysis to provide a continuous, updated Logistics Common Operating Picture (LCOP). Provide management oversight of all transportation and customs clearance activities for TS EA. As Team Lead, plan and communicate daily requirements, manage daily tasks, develop and improve processes to manage requirements, and develop the Team. Advises the Commander and Division Chief on all matters related to logistics analysis, operations reporting, and integration and synergy of activities in support to our customers units throughout the AFRICOM, EUCOM, and CENTCOM areas of responsibility. Qualifications: Candidate must be a skilled logistician with experience in Supply Chain Management, Distribution, Transportation. TS/SCI required Due to TS security requirements and daily interaction with EUCOM, AFRICOM, and CENTCOM Operational Planners, including receiving briefings regarding US Navy Vessel movements, military troop movements in the AOR, Base & Infrastructure Security, and Operational & Contingency Plans. | F89: Army | G89: O4 | H89: Kaiserslautern | J89: Germany | K89: =HYPERLINK("mailto:"&VLOOKUP(L89,'CONCAT Codes'!$A$14:$G$26,5,FALSE)&"?subject="&_xlfn.CONCAT(C89," - APPLICANT for ",A89)&"&cc="&'CONCAT Codes'!$A$32&"&body="&D89&"%0A%0APlease see my resume and bio for the above tour.","Click HERE to apply") -> Click HERE to apply | L89: Melvin, Lee R.
A90: 26-6174 | B90: CENTCOM | C90: USMTM | D90: NCOA Senior Instructor | E90: 26-6174, Length 420 days: Serve as a Senior Enlisted Instructor/Advisor with the U.S. Military Training Mission (USMTM), Riyadh, Kingdom of Saudi Arabia. Advises and assists Saudi Arabian Armed Forces (SAAF) on enlisted professional military education, NCO development, and leadership training initiatives. Responsible for supporting the SAAF initiative to stand-up the Saudi Armed Forces Sergeant Major Academy in Khamis, Saudi Arabia. The SM will work directly with Saudi senior enlisted leaders and U.S. advisors to help refine the curriculum, and establish academic standards with the U.S. Army NCO development models. Provide subject matter expertise in leadership, training management and ethics to assist in refining the SAAF enlisted education program. Represents the USMTM enlisted force in bilateral engagements, reinforcing professional military education standards and promoting mutual understanding between the U.S. military and the SAAF. Responsible for curriculum development, course delivery, and continuous improvement of the program of instruction (POI). Qualifications: Must be a Sergeant Major or Master Sergeant and a USASMA graduate. Prior experience as a Drill Sergeant or instructor; held previous positions in TRADOC, NCOA, or other institutional training assignments preferred. Posses strong communication, facilitation, and instructor skills. Must meet all medical, physical (AFT / height & weight),and deployment requirements for overseas assignments. Must have a valid secret clearance. .) | F90: Army | G90: E9 | H90: Riyadh | J90: Saudi Arabia | K90: =HYPERLINK("mailto:"&VLOOKUP(L90,'CONCAT Codes'!$A$14:$G$26,5,FALSE)&"?subject="&_xlfn.CONCAT(C90," - APPLICANT for ",A90)&"&cc="&'CONCAT Codes'!$A$32&"&body="&D90&"%0A%0APlease see my resume and bio for the above tour.","Click HERE to apply") -> Click HERE to apply | L90: Sorg, Joseph H.
A91: 25-6629 | B91: Secretary of the Air Force | C91: SAF - IARC - AFSAT | D91: F-16 Instructor Pilot | E91: 25-6629, Length 1 Year Advisor in a highly visible, joint position embedded within the Moroccan Air Force. Act as chief instructor pilot responsible for qualification, progression and standardization of 43 Moroccan pilots in support of USAFRICOM objectives. Advises Morocco on planning through execution of a $2B F-16 foreign military sales case. Liaison between RMAF, AFSAT, OSC and AFRICOM. Excellent flying opportunities and unique challenges. No deployments, occasional TDYs to Rabat (US Embassy/RMAF HQ) and Ramstein (medical). Qualifications: Required: F-16 IP with minimum 750 hours F-16. Experienced instructing NVG, NAAR, Sniper/ATP, APG-68. Ability/desire to work/live on your own (nearest USG installation is 4hrs away). Desired: B-Course IP, SEAD IP, RCP current, DLPT score 2/2/2 in French or Arabic, prior NA/ME experience (MPEP/FAO/AA/LEAP). AFSC Preferred: T11FxH, will also accept K11FxH | F91: Air Force | G91: O4 | H91: Ben Guerir AB, Marrakesh | J91: Morocco | K91: =HYPERLINK("mailto:"&VLOOKUP(L91,'CONCAT Codes'!$A$14:$G$26,5,FALSE)&"?subject="&_xlfn.CONCAT(C91," - APPLICANT for ",A91)&"&cc="&'CONCAT Codes'!$A$32&"&body="&D91&"%0A%0APlease see my resume and bio for the above tour.","Click HERE to apply") -> Click HERE to apply | L91: Cousineau, Tania
A92: 26-6241 | B92: Army Materiel Command | C92: USASAC-OPM-SANG | D92: Staff Judge Advocate | E92: 26-6241, Length 420 days: Serves as Staff Judge Advocate for the Office of the Program Manager, Saudi Arabian National Guard Modernization Program (OPM-SANG). Officer will be assigned a 2-3 bedroom villa in a western-compound residential resort (Al Nakhla), Chevy Tahoe, and receive $4,600 for R&R travel. All Soldiers receive the following pay incentives: Combat Zone Tax Exclusion (CZTE), Imminent Danger Pay (IDP), Hardship Duty Pay (HDP), COLA, Civilian Clothing Allowance (CCA), and Family Separation Allowance (FSA) if authorized. Selected Officer will serve a 6 month tour with possibility to extend depending on mission needs. Staff Judge Advocate and integral member of the OPM-SANG Command Group - provides sound legal advice to the OPM-SANG O-6 Program Manager and staff covering Army administrative law, Foreign Military Sales (FMS), and status of forces operating under U.S.C. Title 22 in support of the Saudi Arabian National Guard Modernization Program. Areas of practice include U.S. military personnel and U.S. and foreign civilian employment law, FMS contract and fiscal law, ethics counselor, and advice and review of local program policies and administrative investigations. The OPM-SANG SJA functions within a small legal community consisting of local Judge Advocates in sister FMS programs and a legal technical chain through the U.S. Army Security Assistance Command (USASAC) under the direction of the Army Materiel Command Counsel. | F92: Army | G92: O5:O6 | H92: Riyadh | J92: Saudi Arabia | K92: =HYPERLINK("mailto:"&VLOOKUP(L92,'CONCAT Codes'!$A$14:$G$26,5,FALSE)&"?subject="&_xlfn.CONCAT(C92," - APPLICANT for ",A92)&"&cc="&'CONCAT Codes'!$A$32&"&body="&D92&"%0A%0APlease see my resume and bio for the above tour.","Click HERE to apply") -> Click HERE to apply | L92: Sorg, Joseph H.
A93: 26-6245 | B93: Army Materiel Command | C93: USASAC-OPM-SANG | D93: Chief of Staff | E93: 26-6245, Length 420 days: Serves as Chief of Staff (CoS) for the Office of the Program Manager, Saudi Arabian National Guard Modernization Program (OPM-SANG) located in Alabama at Redstone Arsenal. The CoS is responsible for the day-to-day management and administration of OPM-SANG staff operations. A multi billion-dollar FMS program equivalent to a major field activity that directly involves the national interest of U.S. Foreign Policy in the Middle East. Frequent TDY to Saudi Arabia is required where Soldiers receive Combat Zone Tax Exclusion (CZTE), Hazardous Duty Pay (HDP), and Imminent Danger Pay (IDP) while in country. Selected Officer will serve a 1-year tour with potential option to extend upon approval. Additional Details: CoS is responsible for the planning, coordination, synchronization, and execution of all staff operations by OPM-SANG supporting a multi-billion-dollar Foreign Military Sales (FMS) program. Has responsibility for the policy/plans/analysis, special projects, and administrative tasks, which directly shape and improve the structure, effectiveness, efficiency, and productivity of OPM-SANG staff coordination supporting advisory and partnership operations with the Saudi Arabian National Guard (SANG). Exercises delegated authority to oversee the overall planning, direction and timely execution of an extremely complex and highly logistical, technical, and administrative program, several program segments or comparable staff functions. Included in this responsibility are the development, assignment and clearance of goals and objectives for supervisors or managers of subordinate functions. Coordinates staff functions and information sharing with U.S. Army Security Assistance Command, U.S. Embassy - Riyadh, U.S. Army Central, U.S. Central Command, and other forward stationed mission partners. OPM-SANG is the original and premier security assistance organization across the Department of War. Note: ***To be considered please add the following: ARB/ORB IMR Military Bio Last 3 OERs, SSC DA Form 1059, DA Form 705, DA Form 5500/5501 (if required) DD Form 3349 (if applicable) DA Form 5016 or NGB23 DA Form 1506, Security Clearance Verification Memo | F93: Army | G93: O6 | H93: Riyadh | J93: Saudi Arabia | K93: =HYPERLINK("mailto:"&VLOOKUP(L93,'CONCAT Codes'!$A$14:$G$26,5,FALSE)&"?subject="&_xlfn.CONCAT(C93," - APPLICANT for ",A93)&"&cc="&'CONCAT Codes'!$A$32&"&body="&D93&"%0A%0APlease see my resume and bio for the above tour.","Click HERE to apply") -> Click HERE to apply | L93: Sorg, Joseph H.
A94: 26-6354 | B94: CENTCOM | C94: USMTM - TMO | D94: Military Advisor (Enlisted) | E94: 26-6354, Length 2 years: In accordance with the 1977 Accords and under U.S. Military Training Mission (USMTM), this three-year program commenced on January 2026 to provide U.S. military advisors to the Saudi Arabian Ministry of Defense (MOD) to help transform their military into a cohesive joint fighting force. This is accomplished by embedding expert U.S. military advisors in all levels of the KSA MOD and newly formed Joint Forces Command (JFC) to provide advisory services to Saudi officers with functional expertise in operations, intelligence, logistics, and human resources. This is an unaccompanied PCS tour with an opportunity to extend up to December 2028. | F94: Army | G94: E7:E8:E9 | H94: Riyadh | J94: Saudi Arabia | K94: =HYPERLINK("mailto:"&VLOOKUP(L94,'CONCAT Codes'!$A$14:$G$26,5,FALSE)&"?subject="&_xlfn.CONCAT(C94," - APPLICANT for ",A94)&"&cc="&'CONCAT Codes'!$A$32&"&body="&D94&"%0A%0APlease see my resume and bio for the above tour.","Click HERE to apply") -> Click HERE to apply | L94: Sorg, Joseph H.
A95: 26-6355 | B95: CENTCOM | C95: USMTM - TMO | D95: Military Advisor (Officer) | E95: 26-6355, Length 2 years: In accordance with the 1977 Accords and under U.S. Military Training Mission (USMTM), this three-year program commenced on January 2026 to provide U.S. military advisors to the Saudi Arabian Ministry of Defense (MOD) to help transform their military into a cohesive joint fighting force. This is accomplished by embedding expert U.S. military advisors in all levels of the KSA MOD and newly formed Joint Forces Command (JFC) to provide advisory services to Saudi officers with functional expertise in operations, intelligence, logistics, and human resources. This is an unaccompanied PCS tour with an opportunity to extend up to December 2028. | F95: Army | G95: O4:O5:O6:W2:W3:W4 | H95: Riyadh | J95: Saudi Arabia | K95: =HYPERLINK("mailto:"&VLOOKUP(L95,'CONCAT Codes'!$A$14:$G$26,5,FALSE)&"?subject="&_xlfn.CONCAT(C95," - APPLICANT for ",A95)&"&cc="&'CONCAT Codes'!$A$32&"&body="&D95&"%0A%0APlease see my resume and bio for the above tour.","Click HERE to apply") -> Click HERE to apply | L95: Sorg, Joseph H.
A96: 26-6400 | B96: CENTCOM | C96: USMTM - TMO | D96: Program Manager | E96: 26-6400, Length 420 days: The Program Manager position for a 3 yr FMS Case (thru Dec 2028) that advises the Transformation efforts of the Saudi MoD to a Joint Force. It is an unaccompanied PCS tour. You will have a fully furnished 3 Br Villa and a Tahoe (gas is covered) living on a EXPAT Residential Resort in Riyadh. In accordance with the 1977 Accords and under U.S. Military Training Mission (USMTM), this three-year FMS case commenced on January 2026 to provide U.S. military SME advisors to the Saudi Arabian MoD TMO as they transform their military into a cohesive joint fighting force. This is accomplished by embedding expert U.S. military advisors in MOD’s Joint Forces Command and Service Components to provide advisory services to Saudi officers with functional expertise in operations, intelligence, logistics, and human resources. This is an unaccompanied PCS tour with an opportunity to extend up to December 2028. The current manning is for up to 20 advisors. ***To be considered please contact the POC COL Brian Love (brian.e.love2.mil@army.mil) and attach the following: IPPS-A STP, Military/Civilian Bio, Last 3 Evals, DA Form 705, DA Form 5500/5501 (if required), DD Form 3349 (if applicable), DA Form 5016/NGB23/DA Form 1506, Security Clearance Verification Memo | F96: Army | G96: O5:O6 | H96: Riyadh | J96: Saudi Arabia | K96: =HYPERLINK("mailto:"&VLOOKUP(L96,'CONCAT Codes'!$A$14:$G$26,5,FALSE)&"?subject="&_xlfn.CONCAT(C96," - APPLICANT for ",A96)&"&cc="&'CONCAT Codes'!$A$32&"&body="&D96&"%0A%0APlease see my resume and bio for the above tour.","Click HERE to apply") -> Click HERE to apply | L96: Sorg, Joseph H.
A97: 26-6409 | B97: Air Force Life Cycle Management Center | C97: AFLCMC-WAMD | D97: Weapons Technician | E97: 26-6409, Length 179 days: Requesting experienced F16 Aircraft Armament Systems Craftsman to serve as a weapons load crews, leading flightline operations to ensure rapid sortie generation and aircraft lethality. The selectees will execute the safe handling and loading of 20mm ammunition into F16 block 70M61A1 rotary gun system and oversee complex emergency procedures, safely managing and clearing of gun jams and extraction of live ordinance. Additionally, they will manage the removal and installation of the M61A1 gun system and supervise the armament specific requirements for the F16 18 mth airframe inspection. The candidate will also lead the precise loading and downloading of AIM 9X air to air missiles, chafe and flair countermeasures, and jettison cartridge. Qualifications: Must possess 5 or 7 level w/ complete training records showing qualification on each specific task requested. Member must provide a Memorandum of Record from their MX Group Commander certifying their training record as valid | F97: Air Force | G97: E3:E4:E5:E6:E7 | H97: Kuchyna Air Base, | J97: Slovakia | K97: =HYPERLINK("mailto:"&VLOOKUP(L97,'CONCAT Codes'!$A$14:$G$26,5,FALSE)&"?subject="&_xlfn.CONCAT(C97," - APPLICANT for ",A97)&"&cc="&'CONCAT Codes'!$A$32&"&body="&D97&"%0A%0APlease see my resume and bio for the above tour.","Click HERE to apply") -> Click HERE to apply | L97: Cousineau, Tania

Sheet Tours Closed
A1: Tour# | B1: Agency | C1: Activity | D1: Position Title | E1: Duty Description | F1: Branch | G1: Grade | H1: Duty Site | I1: Duty State | J1: Duty Country | K1: Apply | L1: Recruiter
C3: NONE
M6: R

Sheet Tours Added
A1: Tour# | B1: Agency | C1: Activity | D1: Position Title | E1: Duty Description | F1: Branch | G1: Grade | H1: Duty Site | I1: Duty State | J1: Duty Country | K1: Apply | L1: Recruiter | N1: Blue Header Bar Web-Ready Code | P1: Other Section Web-Ready Code | R1: Recruiter Info
A2: 26-6171 | B2: Corps of Engineers | C2: USACE - Detroit District (LRE) | D2: Construction Control Representative | E2: 26-6171,Length 2 Years: SFC with Construction Experience as a QA working for USACE, to perform the following Construction Control Representative Responsibilities: 1) Observes and investigates all construction phases of highly complex projects to ensure compliance with contract schedules, specifications and shop drawings. 2) Confers with contractors concerning sufficiency and suitability of equipment being used, number of workers employed, etc., to assure completion of work on or ahead of schedule. 3) Review contractor's proposed working schedules for logic, adequacy and to determine whether construction schedules will be met. Recommends revision to schedule as necessary. 4) Engage directly with the Contractor on assigned Definable Features of Work (DFOW) and discuss principal construction features and requirements, in terms of methods and equipment operations, related to plans and specs. 5) Prepare and review other reports such as results of tests, change orders or other deviations approved or submitted with recommendations, etc. Review and comment on Submittals and Requests for Information (RFI). 6) Perform biddability, constructability, operability, environmental, sustainability (BCOES) reviews of plans and specifications to determine practicability from a construction viewpoint whether physical obstruction or other construction difficulties. Review and comment on Statements of Work (SOW) for contract modifications. Conditions Of Employment: Qualifications: Problem Solving: Identifies problems; determines accuracy and relevance of information. 2) Communications: Communicate, written and oral. 3) Contract Management: Knowledge of various types of contracts, techniques for contracting or procurement, and contract negotiation and administration; oversight of contractor performance. 4) Quality Management: Knowledge and application of the principles, methods, and tools of QA/QC to ensure that project, system, or product fulfills requirements/standard | F2: Army | G2: E7 | H2: Sault Sainte Marie | I2: MI | J2: United States | K2: =HYPERLINK("mailto:"&VLOOKUP(L2,'CONCAT Codes'!$A$14:$G$26,5,FALSE)&"?subject="&_xlfn.CONCAT(C2," - APPLICANT for ",A2)&"&cc="&'CONCAT Codes'!$A$32&"&body="&D2&"%0A%0APlease see my resume and bio for the above tour.","Click HERE to apply") -> Click HERE to apply | L2: Ruckman Tabitha N | N2: =CONCATENATE('CONCAT Codes'!$A$2," ",D2," ",A2," ",'CONCAT Codes'!$B$2," ",F2,": ",G2,'CONCAT Codes'!$C$2) -> <table border="0" cellpadding="1" cellspacing="1" style="background-color:#213b69;border-style:hidden;" width="100%"> <thead> <tr> <th scope="col">&nbsp;</th> <td> <h3 style="text-align: left;"><strong><span style="color:#ffffff;"> Construction Control Representative 26-6171 </span></strong></h3> </td> <td> <h4 style="text-align: right;"><span style="color:#ffffff;"> Army: E7</span></h4> </td> <th scope="col">&nbsp;</th> </tr> </thead> </table>' | P2: =CONCATENATE('CONCAT Codes'!$A$6,'CONCAT Codes'!$B$6,'Tours Added'!H2,", ",'Tours Added'!I2,'CONCAT Codes'!C$6,B2,'CONCAT Codes'!$D$6,C2,'CONCAT Codes'!$E$6,F2,'CONCAT Codes'!$F$6,G2,'CONCAT Codes'!$G$6,'Tours Added'!E2) -> <strong> Location:</strong> Sault Sainte Marie, MI<br /> <strong>Agency:</strong> Corps of Engineers<strong> Activity:</strong> USACE - Detroit District (LRE)<br /> <strong>Service:</strong> Army<strong> Desired Grade:</strong> E7<br /> <br /> <strong>Tour Description:</strong> 26-6171,Length 2 Years: SFC with Construction Experience as a QA working for USACE, to perform the following Construction Control Representative Responsibilities: 1) Observes and investigates all construction phases of highly complex projects to ensure compliance with contract schedules, specifications and shop drawings. 2) Confers with contractors concerning sufficiency and suitability of equipment being used, number of workers employed, etc., to assure completion of work on or ahead of schedule. 3) Review contractor's proposed working schedules for logic, adequacy and to determine whether construction schedules will be met. Recommends revision to schedule as necessary. 4) Engage directly with the Contractor on assigned Definable Features of Work (DFOW) and discuss principal construction features and requirements, in terms of methods and equipment operations, related to plans and specs. 5) Prepare and review other reports such as results of tests, change orders or other deviations approved or submitted with recommendations, etc. Review and comment on Submittals and Requests for Information (RFI). 6) Perform biddability, constructability, operability, environmental, sustainability (BCOES) reviews of plans and specifications to determine practicability from a construction viewpoint whether physical obstruction or other construction difficulties. Review and comment on Statements of Work (SOW) for contract modifications. Conditions Of Employment: Qualifications: Problem Solving: Identifies problems; determines accuracy and relevance of information. 2) Communications: Communicate, written and oral. 3) Contract Management: Knowledge of various types of contracts, techniques for contracting or procurement, and contract negotiation and administration; oversight of contractor performance. 4) Quality Management: Knowledge and application of the principles, methods, and tools of QA/QC to ensure that project, system, or product fulfills requirements/standard | R2: =_xlfn.CONCAT('CONCAT Codes'!$A$10,VLOOKUP(L2,'CONCAT Codes'!$A$14:$G$26,5,FALSE),'CONCAT Codes'!$B$10,'Tours Added'!A2," ",C2," ",D2," ",'CONCAT Codes'!$C$10,VLOOKUP(L2,'CONCAT Codes'!$A$14:$G$253,7,FALSE),'CONCAT Codes'!$D$10,VLOOKUP(L2,'CONCAT Codes'!$A$14:$G$26,6,FALSE)) -> <br /> <br /> <strong>To apply, contact: <a href="mailto:tabitha.n.ruckman.mil@mail.mil?subject=Tour 26-6171 USACE - Detroit District (LRE) Construction Control Representative &amp;cc=dfas.indianapolis-in.zh.mbx.pfi@mail.mil&amp;body=Please find my resume and bio attached for consideration.">SFC Tabitha Ruckman</a></strong> - 463-298-4378
A3: 26-6410 | B3: Defense Information Systems Agency | C3: DISA - SD21 | D3: Business Enterprise Architecture Deputy Program Manager | E3: 26-6410, Length 1 Year: The individual serves as a Deputy Program Manager and operations lead at the Defense Information Systems Agency under the Business Systems Division. The incumbent advises and inspects integrations and business process improvement execution for the agency Finance, Contract and Order Entry system integration. Helps guide modernization of legacy software applications to a web-based, task-oriented contract writing platform and integration with order entry and the finance ERP to ensure the agency is compliant with DoW-wide Procurement Data Standards. Performs a variety of studies to document, present, analyze, and improve, execution of modernization initiatives to further improve the integration of DISA's Business Systems. Project planning includes required coordination of information and documentation and input of data into various automated information systems. Compiles, reviews, and evaluates project data. Attends, briefs and participates in formal and informal meetings/conferences for the purpose of reviewing program procedures and defining tasks. Assists in formulating evaluations and recommendations regarding program test strategies, processes and operations relevant to the modernization of the integrated systems. Assures information is available for reviews/presentations using a variety of management tools and techniques, e.g. computers and various software packages (word processing, databases, spreadsheets, graphics, etc.). Prepares summary reports for submission to higher level management. Performs a variety of technical oversight and outreach functions, using judgment to strategically engage and resolve problems. Participates in meetings to answer routine inquiries or understand functional organization requirements. Establishes and maintains a variety of files, briefings, and white-papers for tracking requirements. Establishes and maintains suspense files to ensure timeliness of actions. Follows up on suspense dates to ensure that required actions and responses are made within deadlines. Holds technical exchange meetings to better understand requirements or increase organization collaboration. Works across the agency to resolve and program related requests and issues. Qualifications: Experience with MS Office applications, MS Teams and other project management tools, with a focus on efficiency and automation where applicable. Experience with Agile methodology and ServiceNow recommended. Master's degree strongly recommended. Formal civilian or military training in computer systems desired. Active Secret clearance required. | F3: Army | G3: O3:O4:W3:W4 | H3: Fort Meade | I3: MD | J3: United States | K3: =HYPERLINK("mailto:"&VLOOKUP(L3,'CONCAT Codes'!$A$14:$G$26,5,FALSE)&"?subject="&_xlfn.CONCAT(C3," - APPLICANT for ",A3)&"&cc="&'CONCAT Codes'!$A$32&"&body="&D3&"%0A%0APlease see my resume and bio for the above tour.","Click HERE to apply") -> Click HERE to apply | L3: Brown, Jr, Dan E. | N3: =CONCATENATE('CONCAT Codes'!$A$2," ",D3," ",A3," ",'CONCAT Codes'!$B$2," ",F3,": ",G3,'CONCAT Codes'!$C$2) -> <table border="0" cellpadding="1" cellspacing="1" style="background-color:#213b69;border-style:hidden;" width="100%"> <thead> <tr> <th scope="col">&nbsp;</th> <td> <h3 style="text-align: left;"><strong><span style="color:#ffffff;"> Business Enterprise Architecture Deputy Program Manager 26-6410 </span></strong></h3> </td> <td> <h4 style="text-align: right;"><span style="color:#ffffff;"> Army: O3:O4:W3:W4</span></h4> </td> <th scope="col">&nbsp;</th> </tr> </thead> </table>' | P3: =CONCATENATE('CONCAT Codes'!$A$6,'CONCAT Codes'!$B$6,'Tours Added'!H3,", ",'Tours Added'!I3,'CONCAT Codes'!C$6,B3,'CONCAT Codes'!$D$6,C3,'CONCAT Codes'!$E$6,F3,'CONCAT Codes'!$F$6,G3,'CONCAT Codes'!$G$6,'Tours Added'!E3) -> <strong> Location:</strong> Fort Meade, MD<br /> <strong>Agency:</strong> Defense Information Systems Agency<strong> Activity:</strong> DISA - SD21<br /> <strong>Service:</strong> Army<strong> Desired Grade:</strong> O3:O4:W3:W4<br /> <br /> <strong>Tour Description:</strong> 26-6410, Length 1 Year: The individual serves as a Deputy Program Manager and operations lead at the Defense Information Systems Agency under the Business Systems Division. The incumbent advises and inspects integrations and business process improvement execution for the agency Finance, Contract and Order Entry system integration. Helps guide modernization of legacy software applications to a web-based, task-oriented contract writing platform and integration with order entry and the finance ERP to ensure the agency is compliant with DoW-wide Procurement Data Standards. Performs a variety of studies to document, present, analyze, and improve, execution of modernization initiatives to further improve the integration of DISA's Business Systems. Project planning includes required coordination of information and documentation and input of data into various automated information systems. Compiles, reviews, and evaluates project data. Attends, briefs and participates in formal and informal meetings/conferences for the purpose of reviewing program procedures and defining tasks. Assists in formulating evaluations and recommendations regarding program test strategies, processes and operations relevant to the modernization of the integrated systems. Assures information is available for reviews/presentations using a variety of management tools and techniques, e.g. computers and various software packages (word processing, databases, spreadsheets, graphics, etc.). Prepares summary reports for submission to higher level management. Performs a variety of technical oversight and outreach functions, using judgment to strategically engage and resolve problems. Participates in meetings to answer routine inquiries or understand functional organization requirements. Establishes and maintains a variety of files, briefings, and white-papers for tracking requirements. Establishes and maintains suspense files to ensure timeliness of actions. Follows up on suspense dates to ensure that required actions and responses are made within deadlines. Holds technical exchange meetings to better understand requirements or increase organization collaboration. Works across the agency to resolve and program related requests and issues. Qualifications: Experience with MS Office applications, MS Teams and other project management tools, with a focus on efficiency and automation where applicable. Experience with Agile methodology and ServiceNow recommended. Master's degree strongly recommended. Formal civilian or military training in computer systems desired. Active Secret clearance required. | R3: =_xlfn.CONCAT('CONCAT Codes'!$A$10,VLOOKUP(L3,'CONCAT Codes'!$A$14:$G$26,5,FALSE),'CONCAT Codes'!$B$10,'Tours Added'!A3," ",C3," ",D3," ",'CONCAT Codes'!$C$10,VLOOKUP(L3,'CONCAT Codes'!$A$14:$G$253,7,FALSE),'CONCAT Codes'!$D$10,VLOOKUP(L3,'CONCAT Codes'!$A$14:$G$26,6,FALSE)) -> <br /> <br /> <strong>To apply, contact: <a href="mailto:dan.e.brown2.mil@mail.mil?subject=Tour 26-6410 DISA - SD21 Business Enterprise Architecture Deputy Program Manager &amp;cc=dfas.indianapolis-in.zh.mbx.pfi@mail.mil&amp;body=Please find my resume and bio attached for consideration.">SFC Dan Brown</a></strong> - 317-459-4983
